BEGIN:VCALENDAR
VERSION:2.0
PRODID:-//ChamberMaster//Event Calendar 2.0//EN
METHOD:PUBLISH
X-PUBLISHED-TTL:P3D
REFRESH-INTERVAL:P3D
CALSCALE:GREGORIAN
BEGIN:VEVENT
DTSTART:20260424T190000Z
DTEND:20260426T190000Z
X-MICROSOFT-CDO-ALLDAYEVENT:FALSE
SUMMARY:Big Fish
DESCRIPTION:Based on the celebrated Novel by Daniel Wallace and the acclaimed film directed by Tim Burton\, Big Fish tells the story of Edward Bloom\, a traveling salesman who lives life to the fullest.
X-ALT-DESC;FMTTYPE=text/html:Based on the celebrated Novel by Daniel Wallace and the acclaimed film directed by Tim Burton\, Big Fish tells the story of Edward Bloom\, a traveling salesman who lives life to the fullest.
LOCATION:Lincoln Cultural Center 240 Warren Ave. Kankakee\, IL
UID:e.771.5812
SEQUENCE:3
DTSTAMP:20260423T023525Z
URL:http://kankakeechamber.chambermaster.com/events/details/big-fish-5812
END:VEVENT

END:VCALENDAR
