BEGIN:VCALENDAR
VERSION:2.0
PRODID:-//ChamberMaster//Event Calendar 2.0//EN
METHOD:PUBLISH
X-PUBLISHED-TTL:P3D
REFRESH-INTERVAL:P3D
CALSCALE:GREGORIAN
BEGIN:VEVENT
DTSTART:20250916T153000Z
DTEND:20250916T170000Z
X-MICROSOFT-CDO-ALLDAYEVENT:FALSE
SUMMARY:Memory Café
DESCRIPTION:You're invited to the Memory Caf ! This gathering is designed for people living with Alzheimer's disease\, dementia\, or other memory loss disorders\, along with their caregivers. Come relax\, connect\, and enjoy activities together! Please register below.\n\nThis program is offered in partnership with Catholic Charities Diocese of Joliet\, an organization dedicated to supporting those in need in our communities.
X-ALT-DESC;FMTTYPE=text/html:<p>You&rsquo\;re invited to the Memory Caf&eacute\;! This gathering is designed for people living with Alzheimer&rsquo\;s disease\, dementia\, or other memory loss disorders\, along with their caregivers. Come relax\, connect\, and enjoy activities together! Please register below.</p>\n\n<p>This program is offered in partnership with Catholic Charities Diocese of Joliet\, an organization dedicated to supporting those in need in our communities.</p>\n
LOCATION:Bourbonnais Public Library
UID:e.771.5363
SEQUENCE:3
DTSTAMP:20260425T102516Z
URL:http://kankakeechamber.chambermaster.com/events/details/memory-caf&#233;-5363
END:VEVENT

END:VCALENDAR
