BEGIN:VCALENDAR
VERSION:2.0
PRODID:-//ChamberMaster//Event Calendar 2.0//EN
METHOD:PUBLISH
X-PUBLISHED-TTL:P3D
REFRESH-INTERVAL:P3D
CALSCALE:GREGORIAN
BEGIN:VEVENT
DTSTART:20260220T170000Z
DTEND:20260220T190000Z
X-MICROSOFT-CDO-ALLDAYEVENT:FALSE
SUMMARY:Scrapbook/Junk Journal Group
DESCRIPTION:This group allows you to just come and craft! Bring your own supplies or use ours!
X-ALT-DESC;FMTTYPE=text/html:This group allows you to just come and craft! Bring your own supplies or use ours!
LOCATION:
UID:e.771.5788
SEQUENCE:3
DTSTAMP:20260424T122719Z
URL:http://kankakeechamber.chambermaster.com/events/details/scrapbook-junk-journal-group-5788
END:VEVENT

END:VCALENDAR
