BEGIN:VCALENDAR
VERSION:2.0
PRODID:-//ChamberMaster//Event Calendar 2.0//EN
METHOD:PUBLISH
X-PUBLISHED-TTL:P3D
REFRESH-INTERVAL:P3D
CALSCALE:GREGORIAN
BEGIN:VEVENT
DTSTART:20251003T233000Z
DTEND:20251004T013000Z
X-MICROSOFT-CDO-ALLDAYEVENT:FALSE
SUMMARY:Witches' Night Out
DESCRIPTION:Witches' Night Out at the Kankakee County Museum is a spellbinding Halloween celebration you won't want to miss! Join us for a spooky\, fun-filled evening with surprises around every corner. Grab your pointy hats\, bring your coven\, and enjoy a night of frightful fun on the museum grounds! Included: Haunted Museum entry Movie Screening One Drink ticket (witches' brew provided by The Lush Vine!) Snacks Costume Contest Get your tickets today! https://app.dvforms.net/api/dv/38r33e An additional Witches' Broom Making Class will be offered as an add-on experience at this event. Design and create your own Floral Witches' Broom! Tickets for this must be purchased beforehand so that supplies are available\, through this link: https://www.spiritualvalkyrie.com/event-details-registration/witches-broom-making-class
X-ALT-DESC;FMTTYPE=text/html:Witches&rsquo\; Night Out at the Kankakee County Museum is a spellbinding Halloween celebration you won&rsquo\;t want to miss! Join us for a spooky\, fun-filled evening with surprises around every corner. Grab your pointy hats\, bring your coven\, and enjoy a night of frightful fun on the museum grounds! Included: Haunted Museum entry Movie Screening One Drink ticket (witches&#39\; brew provided by The Lush Vine!) Snacks Costume Contest Get your tickets today! https://app.dvforms.net/api/dv/38r33e An additional Witches&#39\; Broom Making Class will be offered as an add-on experience at this event. Design and create your own Floral Witches&#39\; Broom! Tickets for this must be purchased beforehand so that supplies are available\, through this link: https://www.spiritualvalkyrie.com/event-details-registration/witches-broom-making-class
LOCATION:Kankakee County Museum 801 S. 8th Ave\, Kankakee\, IL 60901
UID:e.771.5367
SEQUENCE:3
DTSTAMP:20260425T132620Z
URL:http://kankakeechamber.chambermaster.com/events/details/witches-night-out-5367
END:VEVENT

END:VCALENDAR
