BEGIN:VCALENDAR
VERSION:2.0
PRODID:-//ChamberMaster//Event Calendar 2.0//EN
METHOD:PUBLISH
X-PUBLISHED-TTL:P3D
REFRESH-INTERVAL:P3D
CALSCALE:GREGORIAN
BEGIN:VEVENT
DTSTART:20260224T003000Z
DTEND:20260224T013000Z
X-MICROSOFT-CDO-ALLDAYEVENT:FALSE
SUMMARY:Writers Group
DESCRIPTION:Connect with fellow writers\, share ideas\, and receive feedback on your writing.
X-ALT-DESC;FMTTYPE=text/html:Connect with fellow writers\, share ideas\, and receive feedback on your writing.&nbsp\;
LOCATION:
UID:e.771.5789
SEQUENCE:3
DTSTAMP:20260423T160942Z
URL:http://kankakeechamber.chambermaster.com/events/details/writers-group-5789
END:VEVENT

END:VCALENDAR
